BEGIN:VCALENDAR
VERSION:2.0
PRODID:-//Rick&#039;s Car Calendar - ECPv6.15.20//NONSGML v1.0//EN
CALSCALE:GREGORIAN
METHOD:PUBLISH
X-WR-CALNAME:Rick&#039;s Car Calendar
X-ORIGINAL-URL:https://www.rickscarcalendar.com
X-WR-CALDESC:Events for Rick&#039;s Car Calendar
REFRESH-INTERVAL;VALUE=DURATION:PT1H
X-Robots-Tag:noindex
X-PUBLISHED-TTL:PT1H
BEGIN:VTIMEZONE
TZID:America/Winnipeg
BEGIN:DAYLIGHT
TZOFFSETFROM:-0600
TZOFFSETTO:-0500
TZNAME:CDT
DTSTART:20250309T080000
END:DAYLIGHT
BEGIN:STANDARD
TZOFFSETFROM:-0500
TZOFFSETTO:-0600
TZNAME:CST
DTSTART:20251102T070000
END:STANDARD
BEGIN:DAYLIGHT
TZOFFSETFROM:-0600
TZOFFSETTO:-0500
TZNAME:CDT
DTSTART:20260308T080000
END:DAYLIGHT
BEGIN:STANDARD
TZOFFSETFROM:-0500
TZOFFSETTO:-0600
TZNAME:CST
DTSTART:20261101T070000
END:STANDARD
BEGIN:DAYLIGHT
TZOFFSETFROM:-0600
TZOFFSETTO:-0500
TZNAME:CDT
DTSTART:20270314T080000
END:DAYLIGHT
BEGIN:STANDARD
TZOFFSETFROM:-0500
TZOFFSETTO:-0600
TZNAME:CST
DTSTART:20271107T070000
END:STANDARD
END:VTIMEZONE
BEGIN:VEVENT
DTSTART;TZID=America/Winnipeg:20260507T170000
DTEND;TZID=America/Winnipeg:20260507T200000
DTSTAMP:20260424T104555
CREATED:20260309T202659Z
LAST-MODIFIED:20260309T202659Z
UID:10046115-1778173200-1778184000@www.rickscarcalendar.com
SUMMARY:MOORHEAD CRUISE NIGHT
DESCRIPTION:CRUISE NIGHT\, FOOD TRUCKS\, LIVE MUSIC\, VENDOR BOOTHS\, FIRST THURSDAY OF EACH MONTH MAY THROUGH SEPTEMBER.
URL:https://www.rickscarcalendar.com/event/moorhead-cruise-night/2026-05-07/
LOCATION:MSTATE MOORHEAD CAMPUS WEST PARKING LOT\, 1900 28TH AVE S\, MOORHEAD\, M\, 56560\, United States
CATEGORIES:Car Show
ATTACH;FMTTYPE=image/jpeg:https://www.rickscarcalendar.com/wp-content/uploads/2026/03/IMG_8978-rotated.jpeg
GEO:46.8491002;-96.7509978
X-APPLE-STRUCTURED-LOCATION;VALUE=URI;X-ADDRESS=MSTATE MOORHEAD CAMPUS WEST PARKING LOT 1900 28TH AVE S MOORHEAD M 56560 United States;X-APPLE-RADIUS=500;X-TITLE=1900 28TH AVE S:geo:-96.7509978,46.8491002
END:VEVENT
BEGIN:VEVENT
DTSTART;TZID=America/Winnipeg:20260604T170000
DTEND;TZID=America/Winnipeg:20260604T200000
DTSTAMP:20260424T104555
CREATED:20260309T202659Z
LAST-MODIFIED:20260309T202659Z
UID:10046116-1780592400-1780603200@www.rickscarcalendar.com
SUMMARY:MOORHEAD CRUISE NIGHT
DESCRIPTION:CRUISE NIGHT\, FOOD TRUCKS\, LIVE MUSIC\, VENDOR BOOTHS\, FIRST THURSDAY OF EACH MONTH MAY THROUGH SEPTEMBER.
URL:https://www.rickscarcalendar.com/event/moorhead-cruise-night/2026-06-04/
LOCATION:MSTATE MOORHEAD CAMPUS WEST PARKING LOT\, 1900 28TH AVE S\, MOORHEAD\, M\, 56560\, United States
CATEGORIES:Car Show
ATTACH;FMTTYPE=image/jpeg:https://www.rickscarcalendar.com/wp-content/uploads/2026/03/IMG_8978-rotated.jpeg
GEO:46.8491002;-96.7509978
X-APPLE-STRUCTURED-LOCATION;VALUE=URI;X-ADDRESS=MSTATE MOORHEAD CAMPUS WEST PARKING LOT 1900 28TH AVE S MOORHEAD M 56560 United States;X-APPLE-RADIUS=500;X-TITLE=1900 28TH AVE S:geo:-96.7509978,46.8491002
END:VEVENT
BEGIN:VEVENT
DTSTART;TZID=America/Winnipeg:20260702T170000
DTEND;TZID=America/Winnipeg:20260702T200000
DTSTAMP:20260424T104555
CREATED:20260309T202659Z
LAST-MODIFIED:20260309T202659Z
UID:10046117-1783011600-1783022400@www.rickscarcalendar.com
SUMMARY:MOORHEAD CRUISE NIGHT
DESCRIPTION:CRUISE NIGHT\, FOOD TRUCKS\, LIVE MUSIC\, VENDOR BOOTHS\, FIRST THURSDAY OF EACH MONTH MAY THROUGH SEPTEMBER.
URL:https://www.rickscarcalendar.com/event/moorhead-cruise-night/2026-07-02/
LOCATION:MSTATE MOORHEAD CAMPUS WEST PARKING LOT\, 1900 28TH AVE S\, MOORHEAD\, M\, 56560\, United States
CATEGORIES:Car Show
ATTACH;FMTTYPE=image/jpeg:https://www.rickscarcalendar.com/wp-content/uploads/2026/03/IMG_8978-rotated.jpeg
GEO:46.8491002;-96.7509978
X-APPLE-STRUCTURED-LOCATION;VALUE=URI;X-ADDRESS=MSTATE MOORHEAD CAMPUS WEST PARKING LOT 1900 28TH AVE S MOORHEAD M 56560 United States;X-APPLE-RADIUS=500;X-TITLE=1900 28TH AVE S:geo:-96.7509978,46.8491002
END:VEVENT
BEGIN:VEVENT
DTSTART;TZID=America/Winnipeg:20260806T170000
DTEND;TZID=America/Winnipeg:20260806T200000
DTSTAMP:20260424T104555
CREATED:20260309T202659Z
LAST-MODIFIED:20260309T202659Z
UID:10046118-1786035600-1786046400@www.rickscarcalendar.com
SUMMARY:MOORHEAD CRUISE NIGHT
DESCRIPTION:CRUISE NIGHT\, FOOD TRUCKS\, LIVE MUSIC\, VENDOR BOOTHS\, FIRST THURSDAY OF EACH MONTH MAY THROUGH SEPTEMBER.
URL:https://www.rickscarcalendar.com/event/moorhead-cruise-night/2026-08-06/
LOCATION:MSTATE MOORHEAD CAMPUS WEST PARKING LOT\, 1900 28TH AVE S\, MOORHEAD\, M\, 56560\, United States
CATEGORIES:Car Show
ATTACH;FMTTYPE=image/jpeg:https://www.rickscarcalendar.com/wp-content/uploads/2026/03/IMG_8978-rotated.jpeg
GEO:46.8491002;-96.7509978
X-APPLE-STRUCTURED-LOCATION;VALUE=URI;X-ADDRESS=MSTATE MOORHEAD CAMPUS WEST PARKING LOT 1900 28TH AVE S MOORHEAD M 56560 United States;X-APPLE-RADIUS=500;X-TITLE=1900 28TH AVE S:geo:-96.7509978,46.8491002
END:VEVENT
BEGIN:VEVENT
DTSTART;TZID=America/Winnipeg:20260903T170000
DTEND;TZID=America/Winnipeg:20260903T200000
DTSTAMP:20260424T104555
CREATED:20260309T202659Z
LAST-MODIFIED:20260309T202659Z
UID:10046119-1788454800-1788465600@www.rickscarcalendar.com
SUMMARY:MOORHEAD CRUISE NIGHT
DESCRIPTION:CRUISE NIGHT\, FOOD TRUCKS\, LIVE MUSIC\, VENDOR BOOTHS\, FIRST THURSDAY OF EACH MONTH MAY THROUGH SEPTEMBER.
URL:https://www.rickscarcalendar.com/event/moorhead-cruise-night/2026-09-03/
LOCATION:MSTATE MOORHEAD CAMPUS WEST PARKING LOT\, 1900 28TH AVE S\, MOORHEAD\, M\, 56560\, United States
CATEGORIES:Car Show
ATTACH;FMTTYPE=image/jpeg:https://www.rickscarcalendar.com/wp-content/uploads/2026/03/IMG_8978-rotated.jpeg
GEO:46.8491002;-96.7509978
X-APPLE-STRUCTURED-LOCATION;VALUE=URI;X-ADDRESS=MSTATE MOORHEAD CAMPUS WEST PARKING LOT 1900 28TH AVE S MOORHEAD M 56560 United States;X-APPLE-RADIUS=500;X-TITLE=1900 28TH AVE S:geo:-96.7509978,46.8491002
END:VEVENT
END:VCALENDAR