BEGIN:VCALENDAR
VERSION:2.0
PRODID:-//Rick&#039;s Car Calendar - ECPv6.15.20//NONSGML v1.0//EN
CALSCALE:GREGORIAN
METHOD:PUBLISH
X-WR-CALNAME:Rick&#039;s Car Calendar
X-ORIGINAL-URL:https://www.rickscarcalendar.com
X-WR-CALDESC:Events for Rick&#039;s Car Calendar
REFRESH-INTERVAL;VALUE=DURATION:PT1H
X-Robots-Tag:noindex
X-PUBLISHED-TTL:PT1H
BEGIN:VTIMEZONE
TZID:America/Winnipeg
BEGIN:DAYLIGHT
TZOFFSETFROM:-0600
TZOFFSETTO:-0500
TZNAME:CDT
DTSTART:20250309T080000
END:DAYLIGHT
BEGIN:STANDARD
TZOFFSETFROM:-0500
TZOFFSETTO:-0600
TZNAME:CST
DTSTART:20251102T070000
END:STANDARD
BEGIN:DAYLIGHT
TZOFFSETFROM:-0600
TZOFFSETTO:-0500
TZNAME:CDT
DTSTART:20260308T080000
END:DAYLIGHT
BEGIN:STANDARD
TZOFFSETFROM:-0500
TZOFFSETTO:-0600
TZNAME:CST
DTSTART:20261101T070000
END:STANDARD
BEGIN:DAYLIGHT
TZOFFSETFROM:-0600
TZOFFSETTO:-0500
TZNAME:CDT
DTSTART:20270314T080000
END:DAYLIGHT
BEGIN:STANDARD
TZOFFSETFROM:-0500
TZOFFSETTO:-0600
TZNAME:CST
DTSTART:20271107T070000
END:STANDARD
END:VTIMEZONE
BEGIN:VEVENT
DTSTART;TZID=America/Winnipeg:20260507T180000
DTEND;TZID=America/Winnipeg:20260507T200000
DTSTAMP:20260421T072315
CREATED:20260421T025207Z
LAST-MODIFIED:20260421T025207Z
UID:10046362-1778176800-1778184000@www.rickscarcalendar.com
SUMMARY:NORTHERN CRUZ CLUB CRUISE NIGHT
DESCRIPTION:CRUISE NIGHT AT CULVERS MAY-SEPTEMBER\, EVERY THURSDAY EXCEPT THE 4TH THURSDAY THE SHOW IS DOWNTOWN ON 3RD STREET. SEE FLYER FOR MORE DETAILS.
URL:https://www.rickscarcalendar.com/event/northern-cruz-club-cruise-night/2026-05-07/
LOCATION:Culvers Resturant  Grand Forks\, ND\, 3451 32nd Ave S\, Grand Forks\, ND\, 58201\, United States
CATEGORIES:Car Show
ATTACH;FMTTYPE=image/jpeg:https://www.rickscarcalendar.com/wp-content/uploads/2026/04/IMG_9518-rotated.jpeg
GEO:47.8772694;-97.1580776
X-APPLE-STRUCTURED-LOCATION;VALUE=URI;X-ADDRESS=Culvers Resturant  Grand Forks ND 3451 32nd Ave S Grand Forks ND 58201 United States;X-APPLE-RADIUS=500;X-TITLE=3451 32nd Ave S:geo:-97.1580776,47.8772694
END:VEVENT
BEGIN:VEVENT
DTSTART;TZID=America/Winnipeg:20260514T180000
DTEND;TZID=America/Winnipeg:20260514T200000
DTSTAMP:20260421T072315
CREATED:20260421T025207Z
LAST-MODIFIED:20260421T025207Z
UID:10046363-1778781600-1778788800@www.rickscarcalendar.com
SUMMARY:NORTHERN CRUZ CLUB CRUISE NIGHT
DESCRIPTION:CRUISE NIGHT AT CULVERS MAY-SEPTEMBER\, EVERY THURSDAY EXCEPT THE 4TH THURSDAY THE SHOW IS DOWNTOWN ON 3RD STREET. SEE FLYER FOR MORE DETAILS.
URL:https://www.rickscarcalendar.com/event/northern-cruz-club-cruise-night/2026-05-14/
LOCATION:Culvers Resturant  Grand Forks\, ND\, 3451 32nd Ave S\, Grand Forks\, ND\, 58201\, United States
CATEGORIES:Car Show
ATTACH;FMTTYPE=image/jpeg:https://www.rickscarcalendar.com/wp-content/uploads/2026/04/IMG_9518-rotated.jpeg
GEO:47.8772694;-97.1580776
X-APPLE-STRUCTURED-LOCATION;VALUE=URI;X-ADDRESS=Culvers Resturant  Grand Forks ND 3451 32nd Ave S Grand Forks ND 58201 United States;X-APPLE-RADIUS=500;X-TITLE=3451 32nd Ave S:geo:-97.1580776,47.8772694
END:VEVENT
BEGIN:VEVENT
DTSTART;TZID=America/Winnipeg:20260521T180000
DTEND;TZID=America/Winnipeg:20260521T200000
DTSTAMP:20260421T072315
CREATED:20260421T025207Z
LAST-MODIFIED:20260421T025207Z
UID:10046364-1779386400-1779393600@www.rickscarcalendar.com
SUMMARY:NORTHERN CRUZ CLUB CRUISE NIGHT
DESCRIPTION:CRUISE NIGHT AT CULVERS MAY-SEPTEMBER\, EVERY THURSDAY EXCEPT THE 4TH THURSDAY THE SHOW IS DOWNTOWN ON 3RD STREET. SEE FLYER FOR MORE DETAILS.
URL:https://www.rickscarcalendar.com/event/northern-cruz-club-cruise-night/2026-05-21/
LOCATION:Culvers Resturant  Grand Forks\, ND\, 3451 32nd Ave S\, Grand Forks\, ND\, 58201\, United States
CATEGORIES:Car Show
ATTACH;FMTTYPE=image/jpeg:https://www.rickscarcalendar.com/wp-content/uploads/2026/04/IMG_9518-rotated.jpeg
GEO:47.8772694;-97.1580776
X-APPLE-STRUCTURED-LOCATION;VALUE=URI;X-ADDRESS=Culvers Resturant  Grand Forks ND 3451 32nd Ave S Grand Forks ND 58201 United States;X-APPLE-RADIUS=500;X-TITLE=3451 32nd Ave S:geo:-97.1580776,47.8772694
END:VEVENT
BEGIN:VEVENT
DTSTART;TZID=America/Winnipeg:20260604T180000
DTEND;TZID=America/Winnipeg:20260604T200000
DTSTAMP:20260421T072315
CREATED:20260421T025207Z
LAST-MODIFIED:20260421T025207Z
UID:10046366-1780596000-1780603200@www.rickscarcalendar.com
SUMMARY:NORTHERN CRUZ CLUB CRUISE NIGHT
DESCRIPTION:CRUISE NIGHT AT CULVERS MAY-SEPTEMBER\, EVERY THURSDAY EXCEPT THE 4TH THURSDAY THE SHOW IS DOWNTOWN ON 3RD STREET. SEE FLYER FOR MORE DETAILS.
URL:https://www.rickscarcalendar.com/event/northern-cruz-club-cruise-night/2026-06-04/
LOCATION:Culvers Resturant  Grand Forks\, ND\, 3451 32nd Ave S\, Grand Forks\, ND\, 58201\, United States
CATEGORIES:Car Show
ATTACH;FMTTYPE=image/jpeg:https://www.rickscarcalendar.com/wp-content/uploads/2026/04/IMG_9518-rotated.jpeg
GEO:47.8772694;-97.1580776
X-APPLE-STRUCTURED-LOCATION;VALUE=URI;X-ADDRESS=Culvers Resturant  Grand Forks ND 3451 32nd Ave S Grand Forks ND 58201 United States;X-APPLE-RADIUS=500;X-TITLE=3451 32nd Ave S:geo:-97.1580776,47.8772694
END:VEVENT
BEGIN:VEVENT
DTSTART;TZID=America/Winnipeg:20260611T180000
DTEND;TZID=America/Winnipeg:20260611T200000
DTSTAMP:20260421T072315
CREATED:20260421T025207Z
LAST-MODIFIED:20260421T025207Z
UID:10046367-1781200800-1781208000@www.rickscarcalendar.com
SUMMARY:NORTHERN CRUZ CLUB CRUISE NIGHT
DESCRIPTION:CRUISE NIGHT AT CULVERS MAY-SEPTEMBER\, EVERY THURSDAY EXCEPT THE 4TH THURSDAY THE SHOW IS DOWNTOWN ON 3RD STREET. SEE FLYER FOR MORE DETAILS.
URL:https://www.rickscarcalendar.com/event/northern-cruz-club-cruise-night/2026-06-11/
LOCATION:Culvers Resturant  Grand Forks\, ND\, 3451 32nd Ave S\, Grand Forks\, ND\, 58201\, United States
CATEGORIES:Car Show
ATTACH;FMTTYPE=image/jpeg:https://www.rickscarcalendar.com/wp-content/uploads/2026/04/IMG_9518-rotated.jpeg
GEO:47.8772694;-97.1580776
X-APPLE-STRUCTURED-LOCATION;VALUE=URI;X-ADDRESS=Culvers Resturant  Grand Forks ND 3451 32nd Ave S Grand Forks ND 58201 United States;X-APPLE-RADIUS=500;X-TITLE=3451 32nd Ave S:geo:-97.1580776,47.8772694
END:VEVENT
BEGIN:VEVENT
DTSTART;TZID=America/Winnipeg:20260618T180000
DTEND;TZID=America/Winnipeg:20260618T200000
DTSTAMP:20260421T072315
CREATED:20260421T025207Z
LAST-MODIFIED:20260421T025207Z
UID:10046368-1781805600-1781812800@www.rickscarcalendar.com
SUMMARY:NORTHERN CRUZ CLUB CRUISE NIGHT
DESCRIPTION:CRUISE NIGHT AT CULVERS MAY-SEPTEMBER\, EVERY THURSDAY EXCEPT THE 4TH THURSDAY THE SHOW IS DOWNTOWN ON 3RD STREET. SEE FLYER FOR MORE DETAILS.
URL:https://www.rickscarcalendar.com/event/northern-cruz-club-cruise-night/2026-06-18/
LOCATION:Culvers Resturant  Grand Forks\, ND\, 3451 32nd Ave S\, Grand Forks\, ND\, 58201\, United States
CATEGORIES:Car Show
ATTACH;FMTTYPE=image/jpeg:https://www.rickscarcalendar.com/wp-content/uploads/2026/04/IMG_9518-rotated.jpeg
GEO:47.8772694;-97.1580776
X-APPLE-STRUCTURED-LOCATION;VALUE=URI;X-ADDRESS=Culvers Resturant  Grand Forks ND 3451 32nd Ave S Grand Forks ND 58201 United States;X-APPLE-RADIUS=500;X-TITLE=3451 32nd Ave S:geo:-97.1580776,47.8772694
END:VEVENT
BEGIN:VEVENT
DTSTART;TZID=America/Winnipeg:20260702T180000
DTEND;TZID=America/Winnipeg:20260702T200000
DTSTAMP:20260421T072315
CREATED:20260421T025207Z
LAST-MODIFIED:20260421T025207Z
UID:10046370-1783015200-1783022400@www.rickscarcalendar.com
SUMMARY:NORTHERN CRUZ CLUB CRUISE NIGHT
DESCRIPTION:CRUISE NIGHT AT CULVERS MAY-SEPTEMBER\, EVERY THURSDAY EXCEPT THE 4TH THURSDAY THE SHOW IS DOWNTOWN ON 3RD STREET. SEE FLYER FOR MORE DETAILS.
URL:https://www.rickscarcalendar.com/event/northern-cruz-club-cruise-night/2026-07-02/
LOCATION:Culvers Resturant  Grand Forks\, ND\, 3451 32nd Ave S\, Grand Forks\, ND\, 58201\, United States
CATEGORIES:Car Show
ATTACH;FMTTYPE=image/jpeg:https://www.rickscarcalendar.com/wp-content/uploads/2026/04/IMG_9518-rotated.jpeg
GEO:47.8772694;-97.1580776
X-APPLE-STRUCTURED-LOCATION;VALUE=URI;X-ADDRESS=Culvers Resturant  Grand Forks ND 3451 32nd Ave S Grand Forks ND 58201 United States;X-APPLE-RADIUS=500;X-TITLE=3451 32nd Ave S:geo:-97.1580776,47.8772694
END:VEVENT
BEGIN:VEVENT
DTSTART;TZID=America/Winnipeg:20260709T180000
DTEND;TZID=America/Winnipeg:20260709T200000
DTSTAMP:20260421T072315
CREATED:20260421T025207Z
LAST-MODIFIED:20260421T025207Z
UID:10046371-1783620000-1783627200@www.rickscarcalendar.com
SUMMARY:NORTHERN CRUZ CLUB CRUISE NIGHT
DESCRIPTION:CRUISE NIGHT AT CULVERS MAY-SEPTEMBER\, EVERY THURSDAY EXCEPT THE 4TH THURSDAY THE SHOW IS DOWNTOWN ON 3RD STREET. SEE FLYER FOR MORE DETAILS.
URL:https://www.rickscarcalendar.com/event/northern-cruz-club-cruise-night/2026-07-09/
LOCATION:Culvers Resturant  Grand Forks\, ND\, 3451 32nd Ave S\, Grand Forks\, ND\, 58201\, United States
CATEGORIES:Car Show
ATTACH;FMTTYPE=image/jpeg:https://www.rickscarcalendar.com/wp-content/uploads/2026/04/IMG_9518-rotated.jpeg
GEO:47.8772694;-97.1580776
X-APPLE-STRUCTURED-LOCATION;VALUE=URI;X-ADDRESS=Culvers Resturant  Grand Forks ND 3451 32nd Ave S Grand Forks ND 58201 United States;X-APPLE-RADIUS=500;X-TITLE=3451 32nd Ave S:geo:-97.1580776,47.8772694
END:VEVENT
BEGIN:VEVENT
DTSTART;TZID=America/Winnipeg:20260716T180000
DTEND;TZID=America/Winnipeg:20260716T200000
DTSTAMP:20260421T072315
CREATED:20260421T025207Z
LAST-MODIFIED:20260421T025207Z
UID:10046372-1784224800-1784232000@www.rickscarcalendar.com
SUMMARY:NORTHERN CRUZ CLUB CRUISE NIGHT
DESCRIPTION:CRUISE NIGHT AT CULVERS MAY-SEPTEMBER\, EVERY THURSDAY EXCEPT THE 4TH THURSDAY THE SHOW IS DOWNTOWN ON 3RD STREET. SEE FLYER FOR MORE DETAILS.
URL:https://www.rickscarcalendar.com/event/northern-cruz-club-cruise-night/2026-07-16/
LOCATION:Culvers Resturant  Grand Forks\, ND\, 3451 32nd Ave S\, Grand Forks\, ND\, 58201\, United States
CATEGORIES:Car Show
ATTACH;FMTTYPE=image/jpeg:https://www.rickscarcalendar.com/wp-content/uploads/2026/04/IMG_9518-rotated.jpeg
GEO:47.8772694;-97.1580776
X-APPLE-STRUCTURED-LOCATION;VALUE=URI;X-ADDRESS=Culvers Resturant  Grand Forks ND 3451 32nd Ave S Grand Forks ND 58201 United States;X-APPLE-RADIUS=500;X-TITLE=3451 32nd Ave S:geo:-97.1580776,47.8772694
END:VEVENT
BEGIN:VEVENT
DTSTART;TZID=America/Winnipeg:20260730T180000
DTEND;TZID=America/Winnipeg:20260730T200000
DTSTAMP:20260421T072315
CREATED:20260421T025207Z
LAST-MODIFIED:20260421T025207Z
UID:10046374-1785434400-1785441600@www.rickscarcalendar.com
SUMMARY:NORTHERN CRUZ CLUB CRUISE NIGHT
DESCRIPTION:CRUISE NIGHT AT CULVERS MAY-SEPTEMBER\, EVERY THURSDAY EXCEPT THE 4TH THURSDAY THE SHOW IS DOWNTOWN ON 3RD STREET. SEE FLYER FOR MORE DETAILS.
URL:https://www.rickscarcalendar.com/event/northern-cruz-club-cruise-night/2026-07-30/
LOCATION:Culvers Resturant  Grand Forks\, ND\, 3451 32nd Ave S\, Grand Forks\, ND\, 58201\, United States
CATEGORIES:Car Show
ATTACH;FMTTYPE=image/jpeg:https://www.rickscarcalendar.com/wp-content/uploads/2026/04/IMG_9518-rotated.jpeg
GEO:47.8772694;-97.1580776
X-APPLE-STRUCTURED-LOCATION;VALUE=URI;X-ADDRESS=Culvers Resturant  Grand Forks ND 3451 32nd Ave S Grand Forks ND 58201 United States;X-APPLE-RADIUS=500;X-TITLE=3451 32nd Ave S:geo:-97.1580776,47.8772694
END:VEVENT
BEGIN:VEVENT
DTSTART;TZID=America/Winnipeg:20260806T180000
DTEND;TZID=America/Winnipeg:20260806T200000
DTSTAMP:20260421T072315
CREATED:20260421T025207Z
LAST-MODIFIED:20260421T025207Z
UID:10046375-1786039200-1786046400@www.rickscarcalendar.com
SUMMARY:NORTHERN CRUZ CLUB CRUISE NIGHT
DESCRIPTION:CRUISE NIGHT AT CULVERS MAY-SEPTEMBER\, EVERY THURSDAY EXCEPT THE 4TH THURSDAY THE SHOW IS DOWNTOWN ON 3RD STREET. SEE FLYER FOR MORE DETAILS.
URL:https://www.rickscarcalendar.com/event/northern-cruz-club-cruise-night/2026-08-06/
LOCATION:Culvers Resturant  Grand Forks\, ND\, 3451 32nd Ave S\, Grand Forks\, ND\, 58201\, United States
CATEGORIES:Car Show
ATTACH;FMTTYPE=image/jpeg:https://www.rickscarcalendar.com/wp-content/uploads/2026/04/IMG_9518-rotated.jpeg
GEO:47.8772694;-97.1580776
X-APPLE-STRUCTURED-LOCATION;VALUE=URI;X-ADDRESS=Culvers Resturant  Grand Forks ND 3451 32nd Ave S Grand Forks ND 58201 United States;X-APPLE-RADIUS=500;X-TITLE=3451 32nd Ave S:geo:-97.1580776,47.8772694
END:VEVENT
BEGIN:VEVENT
DTSTART;TZID=America/Winnipeg:20260813T180000
DTEND;TZID=America/Winnipeg:20260813T200000
DTSTAMP:20260421T072315
CREATED:20260421T025207Z
LAST-MODIFIED:20260421T025207Z
UID:10046376-1786644000-1786651200@www.rickscarcalendar.com
SUMMARY:NORTHERN CRUZ CLUB CRUISE NIGHT
DESCRIPTION:CRUISE NIGHT AT CULVERS MAY-SEPTEMBER\, EVERY THURSDAY EXCEPT THE 4TH THURSDAY THE SHOW IS DOWNTOWN ON 3RD STREET. SEE FLYER FOR MORE DETAILS.
URL:https://www.rickscarcalendar.com/event/northern-cruz-club-cruise-night/2026-08-13/
LOCATION:Culvers Resturant  Grand Forks\, ND\, 3451 32nd Ave S\, Grand Forks\, ND\, 58201\, United States
CATEGORIES:Car Show
ATTACH;FMTTYPE=image/jpeg:https://www.rickscarcalendar.com/wp-content/uploads/2026/04/IMG_9518-rotated.jpeg
GEO:47.8772694;-97.1580776
X-APPLE-STRUCTURED-LOCATION;VALUE=URI;X-ADDRESS=Culvers Resturant  Grand Forks ND 3451 32nd Ave S Grand Forks ND 58201 United States;X-APPLE-RADIUS=500;X-TITLE=3451 32nd Ave S:geo:-97.1580776,47.8772694
END:VEVENT
BEGIN:VEVENT
DTSTART;TZID=America/Winnipeg:20260820T180000
DTEND;TZID=America/Winnipeg:20260820T200000
DTSTAMP:20260421T072315
CREATED:20260421T025207Z
LAST-MODIFIED:20260421T025207Z
UID:10046377-1787248800-1787256000@www.rickscarcalendar.com
SUMMARY:NORTHERN CRUZ CLUB CRUISE NIGHT
DESCRIPTION:CRUISE NIGHT AT CULVERS MAY-SEPTEMBER\, EVERY THURSDAY EXCEPT THE 4TH THURSDAY THE SHOW IS DOWNTOWN ON 3RD STREET. SEE FLYER FOR MORE DETAILS.
URL:https://www.rickscarcalendar.com/event/northern-cruz-club-cruise-night/2026-08-20/
LOCATION:Culvers Resturant  Grand Forks\, ND\, 3451 32nd Ave S\, Grand Forks\, ND\, 58201\, United States
CATEGORIES:Car Show
ATTACH;FMTTYPE=image/jpeg:https://www.rickscarcalendar.com/wp-content/uploads/2026/04/IMG_9518-rotated.jpeg
GEO:47.8772694;-97.1580776
X-APPLE-STRUCTURED-LOCATION;VALUE=URI;X-ADDRESS=Culvers Resturant  Grand Forks ND 3451 32nd Ave S Grand Forks ND 58201 United States;X-APPLE-RADIUS=500;X-TITLE=3451 32nd Ave S:geo:-97.1580776,47.8772694
END:VEVENT
BEGIN:VEVENT
DTSTART;TZID=America/Winnipeg:20260903T180000
DTEND;TZID=America/Winnipeg:20260903T200000
DTSTAMP:20260421T072315
CREATED:20260421T025207Z
LAST-MODIFIED:20260421T025207Z
UID:10046379-1788458400-1788465600@www.rickscarcalendar.com
SUMMARY:NORTHERN CRUZ CLUB CRUISE NIGHT
DESCRIPTION:CRUISE NIGHT AT CULVERS MAY-SEPTEMBER\, EVERY THURSDAY EXCEPT THE 4TH THURSDAY THE SHOW IS DOWNTOWN ON 3RD STREET. SEE FLYER FOR MORE DETAILS.
URL:https://www.rickscarcalendar.com/event/northern-cruz-club-cruise-night/2026-09-03/
LOCATION:Culvers Resturant  Grand Forks\, ND\, 3451 32nd Ave S\, Grand Forks\, ND\, 58201\, United States
CATEGORIES:Car Show
ATTACH;FMTTYPE=image/jpeg:https://www.rickscarcalendar.com/wp-content/uploads/2026/04/IMG_9518-rotated.jpeg
GEO:47.8772694;-97.1580776
X-APPLE-STRUCTURED-LOCATION;VALUE=URI;X-ADDRESS=Culvers Resturant  Grand Forks ND 3451 32nd Ave S Grand Forks ND 58201 United States;X-APPLE-RADIUS=500;X-TITLE=3451 32nd Ave S:geo:-97.1580776,47.8772694
END:VEVENT
BEGIN:VEVENT
DTSTART;TZID=America/Winnipeg:20260910T180000
DTEND;TZID=America/Winnipeg:20260910T200000
DTSTAMP:20260421T072315
CREATED:20260421T025207Z
LAST-MODIFIED:20260421T025207Z
UID:10046380-1789063200-1789070400@www.rickscarcalendar.com
SUMMARY:NORTHERN CRUZ CLUB CRUISE NIGHT
DESCRIPTION:CRUISE NIGHT AT CULVERS MAY-SEPTEMBER\, EVERY THURSDAY EXCEPT THE 4TH THURSDAY THE SHOW IS DOWNTOWN ON 3RD STREET. SEE FLYER FOR MORE DETAILS.
URL:https://www.rickscarcalendar.com/event/northern-cruz-club-cruise-night/2026-09-10/
LOCATION:Culvers Resturant  Grand Forks\, ND\, 3451 32nd Ave S\, Grand Forks\, ND\, 58201\, United States
CATEGORIES:Car Show
ATTACH;FMTTYPE=image/jpeg:https://www.rickscarcalendar.com/wp-content/uploads/2026/04/IMG_9518-rotated.jpeg
GEO:47.8772694;-97.1580776
X-APPLE-STRUCTURED-LOCATION;VALUE=URI;X-ADDRESS=Culvers Resturant  Grand Forks ND 3451 32nd Ave S Grand Forks ND 58201 United States;X-APPLE-RADIUS=500;X-TITLE=3451 32nd Ave S:geo:-97.1580776,47.8772694
END:VEVENT
BEGIN:VEVENT
DTSTART;TZID=America/Winnipeg:20260917T180000
DTEND;TZID=America/Winnipeg:20260917T200000
DTSTAMP:20260421T072315
CREATED:20260421T025207Z
LAST-MODIFIED:20260421T025207Z
UID:10046381-1789668000-1789675200@www.rickscarcalendar.com
SUMMARY:NORTHERN CRUZ CLUB CRUISE NIGHT
DESCRIPTION:CRUISE NIGHT AT CULVERS MAY-SEPTEMBER\, EVERY THURSDAY EXCEPT THE 4TH THURSDAY THE SHOW IS DOWNTOWN ON 3RD STREET. SEE FLYER FOR MORE DETAILS.
URL:https://www.rickscarcalendar.com/event/northern-cruz-club-cruise-night/2026-09-17/
LOCATION:Culvers Resturant  Grand Forks\, ND\, 3451 32nd Ave S\, Grand Forks\, ND\, 58201\, United States
CATEGORIES:Car Show
ATTACH;FMTTYPE=image/jpeg:https://www.rickscarcalendar.com/wp-content/uploads/2026/04/IMG_9518-rotated.jpeg
GEO:47.8772694;-97.1580776
X-APPLE-STRUCTURED-LOCATION;VALUE=URI;X-ADDRESS=Culvers Resturant  Grand Forks ND 3451 32nd Ave S Grand Forks ND 58201 United States;X-APPLE-RADIUS=500;X-TITLE=3451 32nd Ave S:geo:-97.1580776,47.8772694
END:VEVENT
END:VCALENDAR