BEGIN:VCALENDAR
VERSION:2.0
PRODID:-//Rick&#039;s Car Calendar - ECPv6.15.20//NONSGML v1.0//EN
CALSCALE:GREGORIAN
METHOD:PUBLISH
X-WR-CALNAME:Rick&#039;s Car Calendar
X-ORIGINAL-URL:https://www.rickscarcalendar.com
X-WR-CALDESC:Events for Rick&#039;s Car Calendar
REFRESH-INTERVAL;VALUE=DURATION:PT1H
X-Robots-Tag:noindex
X-PUBLISHED-TTL:PT1H
BEGIN:VTIMEZONE
TZID:America/Winnipeg
BEGIN:DAYLIGHT
TZOFFSETFROM:-0600
TZOFFSETTO:-0500
TZNAME:CDT
DTSTART:20250309T080000
END:DAYLIGHT
BEGIN:STANDARD
TZOFFSETFROM:-0500
TZOFFSETTO:-0600
TZNAME:CST
DTSTART:20251102T070000
END:STANDARD
BEGIN:DAYLIGHT
TZOFFSETFROM:-0600
TZOFFSETTO:-0500
TZNAME:CDT
DTSTART:20260308T080000
END:DAYLIGHT
BEGIN:STANDARD
TZOFFSETFROM:-0500
TZOFFSETTO:-0600
TZNAME:CST
DTSTART:20261101T070000
END:STANDARD
BEGIN:DAYLIGHT
TZOFFSETFROM:-0600
TZOFFSETTO:-0500
TZNAME:CDT
DTSTART:20270314T080000
END:DAYLIGHT
BEGIN:STANDARD
TZOFFSETFROM:-0500
TZOFFSETTO:-0600
TZNAME:CST
DTSTART:20271107T070000
END:STANDARD
END:VTIMEZONE
BEGIN:VEVENT
DTSTART;TZID=America/Winnipeg:20260505T180000
DTEND;TZID=America/Winnipeg:20260505T210000
DTSTAMP:20260421T072314
CREATED:20260421T025831Z
LAST-MODIFIED:20260421T025831Z
UID:10046386-1778004000-1778014800@www.rickscarcalendar.com
SUMMARY:PRIME STEEL CAR CLUB CRUISE NIGHT
DESCRIPTION:CAR SHOW AND SHINE HELD AT COOKIES LOUNGE (THE OLD ELROCO PARKING LOT!
URL:https://www.rickscarcalendar.com/event/prime-steel-car-club-cruise-night-2/2026-05-05/
LOCATION:COOKIES LOUNGE\, 1730 13TH AVE NORTH\, GRAND FORKS\, ND\, United States
CATEGORIES:Car Show
ATTACH;FMTTYPE=image/jpeg:https://www.rickscarcalendar.com/wp-content/uploads/2026/04/IMG_9521.jpeg
END:VEVENT
BEGIN:VEVENT
DTSTART;TZID=America/Winnipeg:20260512T180000
DTEND;TZID=America/Winnipeg:20260512T210000
DTSTAMP:20260421T072314
CREATED:20260421T025831Z
LAST-MODIFIED:20260421T025831Z
UID:10046387-1778608800-1778619600@www.rickscarcalendar.com
SUMMARY:PRIME STEEL CAR CLUB CRUISE NIGHT
DESCRIPTION:CAR SHOW AND SHINE HELD AT COOKIES LOUNGE (THE OLD ELROCO PARKING LOT!
URL:https://www.rickscarcalendar.com/event/prime-steel-car-club-cruise-night-2/2026-05-12/
LOCATION:COOKIES LOUNGE\, 1730 13TH AVE NORTH\, GRAND FORKS\, ND\, United States
CATEGORIES:Car Show
ATTACH;FMTTYPE=image/jpeg:https://www.rickscarcalendar.com/wp-content/uploads/2026/04/IMG_9521.jpeg
END:VEVENT
BEGIN:VEVENT
DTSTART;TZID=America/Winnipeg:20260519T180000
DTEND;TZID=America/Winnipeg:20260519T210000
DTSTAMP:20260421T072314
CREATED:20260421T025831Z
LAST-MODIFIED:20260421T025831Z
UID:10046388-1779213600-1779224400@www.rickscarcalendar.com
SUMMARY:PRIME STEEL CAR CLUB CRUISE NIGHT
DESCRIPTION:CAR SHOW AND SHINE HELD AT COOKIES LOUNGE (THE OLD ELROCO PARKING LOT!
URL:https://www.rickscarcalendar.com/event/prime-steel-car-club-cruise-night-2/2026-05-19/
LOCATION:COOKIES LOUNGE\, 1730 13TH AVE NORTH\, GRAND FORKS\, ND\, United States
CATEGORIES:Car Show
ATTACH;FMTTYPE=image/jpeg:https://www.rickscarcalendar.com/wp-content/uploads/2026/04/IMG_9521.jpeg
END:VEVENT
BEGIN:VEVENT
DTSTART;TZID=America/Winnipeg:20260526T180000
DTEND;TZID=America/Winnipeg:20260526T210000
DTSTAMP:20260421T072314
CREATED:20260421T025831Z
LAST-MODIFIED:20260421T025831Z
UID:10046389-1779818400-1779829200@www.rickscarcalendar.com
SUMMARY:PRIME STEEL CAR CLUB CRUISE NIGHT
DESCRIPTION:CAR SHOW AND SHINE HELD AT COOKIES LOUNGE (THE OLD ELROCO PARKING LOT!
URL:https://www.rickscarcalendar.com/event/prime-steel-car-club-cruise-night-2/2026-05-26/
LOCATION:COOKIES LOUNGE\, 1730 13TH AVE NORTH\, GRAND FORKS\, ND\, United States
CATEGORIES:Car Show
ATTACH;FMTTYPE=image/jpeg:https://www.rickscarcalendar.com/wp-content/uploads/2026/04/IMG_9521.jpeg
END:VEVENT
BEGIN:VEVENT
DTSTART;TZID=America/Winnipeg:20260602T180000
DTEND;TZID=America/Winnipeg:20260602T210000
DTSTAMP:20260421T072314
CREATED:20260421T025831Z
LAST-MODIFIED:20260421T025831Z
UID:10046390-1780423200-1780434000@www.rickscarcalendar.com
SUMMARY:PRIME STEEL CAR CLUB CRUISE NIGHT
DESCRIPTION:CAR SHOW AND SHINE HELD AT COOKIES LOUNGE (THE OLD ELROCO PARKING LOT!
URL:https://www.rickscarcalendar.com/event/prime-steel-car-club-cruise-night-2/2026-06-02/
LOCATION:COOKIES LOUNGE\, 1730 13TH AVE NORTH\, GRAND FORKS\, ND\, United States
CATEGORIES:Car Show
ATTACH;FMTTYPE=image/jpeg:https://www.rickscarcalendar.com/wp-content/uploads/2026/04/IMG_9521.jpeg
END:VEVENT
BEGIN:VEVENT
DTSTART;TZID=America/Winnipeg:20260609T180000
DTEND;TZID=America/Winnipeg:20260609T210000
DTSTAMP:20260421T072314
CREATED:20260421T025831Z
LAST-MODIFIED:20260421T025831Z
UID:10046391-1781028000-1781038800@www.rickscarcalendar.com
SUMMARY:PRIME STEEL CAR CLUB CRUISE NIGHT
DESCRIPTION:CAR SHOW AND SHINE HELD AT COOKIES LOUNGE (THE OLD ELROCO PARKING LOT!
URL:https://www.rickscarcalendar.com/event/prime-steel-car-club-cruise-night-2/2026-06-09/
LOCATION:COOKIES LOUNGE\, 1730 13TH AVE NORTH\, GRAND FORKS\, ND\, United States
CATEGORIES:Car Show
ATTACH;FMTTYPE=image/jpeg:https://www.rickscarcalendar.com/wp-content/uploads/2026/04/IMG_9521.jpeg
END:VEVENT
BEGIN:VEVENT
DTSTART;TZID=America/Winnipeg:20260616T180000
DTEND;TZID=America/Winnipeg:20260616T210000
DTSTAMP:20260421T072314
CREATED:20260421T025831Z
LAST-MODIFIED:20260421T025831Z
UID:10046392-1781632800-1781643600@www.rickscarcalendar.com
SUMMARY:PRIME STEEL CAR CLUB CRUISE NIGHT
DESCRIPTION:CAR SHOW AND SHINE HELD AT COOKIES LOUNGE (THE OLD ELROCO PARKING LOT!
URL:https://www.rickscarcalendar.com/event/prime-steel-car-club-cruise-night-2/2026-06-16/
LOCATION:COOKIES LOUNGE\, 1730 13TH AVE NORTH\, GRAND FORKS\, ND\, United States
CATEGORIES:Car Show
ATTACH;FMTTYPE=image/jpeg:https://www.rickscarcalendar.com/wp-content/uploads/2026/04/IMG_9521.jpeg
END:VEVENT
BEGIN:VEVENT
DTSTART;TZID=America/Winnipeg:20260623T180000
DTEND;TZID=America/Winnipeg:20260623T210000
DTSTAMP:20260421T072314
CREATED:20260421T025831Z
LAST-MODIFIED:20260421T025831Z
UID:10046393-1782237600-1782248400@www.rickscarcalendar.com
SUMMARY:PRIME STEEL CAR CLUB CRUISE NIGHT
DESCRIPTION:CAR SHOW AND SHINE HELD AT COOKIES LOUNGE (THE OLD ELROCO PARKING LOT!
URL:https://www.rickscarcalendar.com/event/prime-steel-car-club-cruise-night-2/2026-06-23/
LOCATION:COOKIES LOUNGE\, 1730 13TH AVE NORTH\, GRAND FORKS\, ND\, United States
CATEGORIES:Car Show
ATTACH;FMTTYPE=image/jpeg:https://www.rickscarcalendar.com/wp-content/uploads/2026/04/IMG_9521.jpeg
END:VEVENT
BEGIN:VEVENT
DTSTART;TZID=America/Winnipeg:20260630T180000
DTEND;TZID=America/Winnipeg:20260630T210000
DTSTAMP:20260421T072314
CREATED:20260421T025831Z
LAST-MODIFIED:20260421T025831Z
UID:10046394-1782842400-1782853200@www.rickscarcalendar.com
SUMMARY:PRIME STEEL CAR CLUB CRUISE NIGHT
DESCRIPTION:CAR SHOW AND SHINE HELD AT COOKIES LOUNGE (THE OLD ELROCO PARKING LOT!
URL:https://www.rickscarcalendar.com/event/prime-steel-car-club-cruise-night-2/2026-06-30/
LOCATION:COOKIES LOUNGE\, 1730 13TH AVE NORTH\, GRAND FORKS\, ND\, United States
CATEGORIES:Car Show
ATTACH;FMTTYPE=image/jpeg:https://www.rickscarcalendar.com/wp-content/uploads/2026/04/IMG_9521.jpeg
END:VEVENT
BEGIN:VEVENT
DTSTART;TZID=America/Winnipeg:20260707T180000
DTEND;TZID=America/Winnipeg:20260707T210000
DTSTAMP:20260421T072314
CREATED:20260421T025831Z
LAST-MODIFIED:20260421T025831Z
UID:10046395-1783447200-1783458000@www.rickscarcalendar.com
SUMMARY:PRIME STEEL CAR CLUB CRUISE NIGHT
DESCRIPTION:CAR SHOW AND SHINE HELD AT COOKIES LOUNGE (THE OLD ELROCO PARKING LOT!
URL:https://www.rickscarcalendar.com/event/prime-steel-car-club-cruise-night-2/2026-07-07/
LOCATION:COOKIES LOUNGE\, 1730 13TH AVE NORTH\, GRAND FORKS\, ND\, United States
CATEGORIES:Car Show
ATTACH;FMTTYPE=image/jpeg:https://www.rickscarcalendar.com/wp-content/uploads/2026/04/IMG_9521.jpeg
END:VEVENT
BEGIN:VEVENT
DTSTART;TZID=America/Winnipeg:20260714T180000
DTEND;TZID=America/Winnipeg:20260714T210000
DTSTAMP:20260421T072314
CREATED:20260421T025831Z
LAST-MODIFIED:20260421T025831Z
UID:10046396-1784052000-1784062800@www.rickscarcalendar.com
SUMMARY:PRIME STEEL CAR CLUB CRUISE NIGHT
DESCRIPTION:CAR SHOW AND SHINE HELD AT COOKIES LOUNGE (THE OLD ELROCO PARKING LOT!
URL:https://www.rickscarcalendar.com/event/prime-steel-car-club-cruise-night-2/2026-07-14/
LOCATION:COOKIES LOUNGE\, 1730 13TH AVE NORTH\, GRAND FORKS\, ND\, United States
CATEGORIES:Car Show
ATTACH;FMTTYPE=image/jpeg:https://www.rickscarcalendar.com/wp-content/uploads/2026/04/IMG_9521.jpeg
END:VEVENT
BEGIN:VEVENT
DTSTART;TZID=America/Winnipeg:20260721T180000
DTEND;TZID=America/Winnipeg:20260721T210000
DTSTAMP:20260421T072314
CREATED:20260421T025831Z
LAST-MODIFIED:20260421T025831Z
UID:10046397-1784656800-1784667600@www.rickscarcalendar.com
SUMMARY:PRIME STEEL CAR CLUB CRUISE NIGHT
DESCRIPTION:CAR SHOW AND SHINE HELD AT COOKIES LOUNGE (THE OLD ELROCO PARKING LOT!
URL:https://www.rickscarcalendar.com/event/prime-steel-car-club-cruise-night-2/2026-07-21/
LOCATION:COOKIES LOUNGE\, 1730 13TH AVE NORTH\, GRAND FORKS\, ND\, United States
CATEGORIES:Car Show
ATTACH;FMTTYPE=image/jpeg:https://www.rickscarcalendar.com/wp-content/uploads/2026/04/IMG_9521.jpeg
END:VEVENT
BEGIN:VEVENT
DTSTART;TZID=America/Winnipeg:20260728T180000
DTEND;TZID=America/Winnipeg:20260728T210000
DTSTAMP:20260421T072314
CREATED:20260421T025831Z
LAST-MODIFIED:20260421T025831Z
UID:10046398-1785261600-1785272400@www.rickscarcalendar.com
SUMMARY:PRIME STEEL CAR CLUB CRUISE NIGHT
DESCRIPTION:CAR SHOW AND SHINE HELD AT COOKIES LOUNGE (THE OLD ELROCO PARKING LOT!
URL:https://www.rickscarcalendar.com/event/prime-steel-car-club-cruise-night-2/2026-07-28/
LOCATION:COOKIES LOUNGE\, 1730 13TH AVE NORTH\, GRAND FORKS\, ND\, United States
CATEGORIES:Car Show
ATTACH;FMTTYPE=image/jpeg:https://www.rickscarcalendar.com/wp-content/uploads/2026/04/IMG_9521.jpeg
END:VEVENT
BEGIN:VEVENT
DTSTART;TZID=America/Winnipeg:20260804T180000
DTEND;TZID=America/Winnipeg:20260804T210000
DTSTAMP:20260421T072314
CREATED:20260421T025831Z
LAST-MODIFIED:20260421T025831Z
UID:10046399-1785866400-1785877200@www.rickscarcalendar.com
SUMMARY:PRIME STEEL CAR CLUB CRUISE NIGHT
DESCRIPTION:CAR SHOW AND SHINE HELD AT COOKIES LOUNGE (THE OLD ELROCO PARKING LOT!
URL:https://www.rickscarcalendar.com/event/prime-steel-car-club-cruise-night-2/2026-08-04/
LOCATION:COOKIES LOUNGE\, 1730 13TH AVE NORTH\, GRAND FORKS\, ND\, United States
CATEGORIES:Car Show
ATTACH;FMTTYPE=image/jpeg:https://www.rickscarcalendar.com/wp-content/uploads/2026/04/IMG_9521.jpeg
END:VEVENT
BEGIN:VEVENT
DTSTART;TZID=America/Winnipeg:20260811T180000
DTEND;TZID=America/Winnipeg:20260811T210000
DTSTAMP:20260421T072314
CREATED:20260421T025831Z
LAST-MODIFIED:20260421T025831Z
UID:10046400-1786471200-1786482000@www.rickscarcalendar.com
SUMMARY:PRIME STEEL CAR CLUB CRUISE NIGHT
DESCRIPTION:CAR SHOW AND SHINE HELD AT COOKIES LOUNGE (THE OLD ELROCO PARKING LOT!
URL:https://www.rickscarcalendar.com/event/prime-steel-car-club-cruise-night-2/2026-08-11/
LOCATION:COOKIES LOUNGE\, 1730 13TH AVE NORTH\, GRAND FORKS\, ND\, United States
CATEGORIES:Car Show
ATTACH;FMTTYPE=image/jpeg:https://www.rickscarcalendar.com/wp-content/uploads/2026/04/IMG_9521.jpeg
END:VEVENT
BEGIN:VEVENT
DTSTART;TZID=America/Winnipeg:20260818T180000
DTEND;TZID=America/Winnipeg:20260818T210000
DTSTAMP:20260421T072314
CREATED:20260421T025831Z
LAST-MODIFIED:20260421T025831Z
UID:10046401-1787076000-1787086800@www.rickscarcalendar.com
SUMMARY:PRIME STEEL CAR CLUB CRUISE NIGHT
DESCRIPTION:CAR SHOW AND SHINE HELD AT COOKIES LOUNGE (THE OLD ELROCO PARKING LOT!
URL:https://www.rickscarcalendar.com/event/prime-steel-car-club-cruise-night-2/2026-08-18/
LOCATION:COOKIES LOUNGE\, 1730 13TH AVE NORTH\, GRAND FORKS\, ND\, United States
CATEGORIES:Car Show
ATTACH;FMTTYPE=image/jpeg:https://www.rickscarcalendar.com/wp-content/uploads/2026/04/IMG_9521.jpeg
END:VEVENT
BEGIN:VEVENT
DTSTART;TZID=America/Winnipeg:20260825T180000
DTEND;TZID=America/Winnipeg:20260825T210000
DTSTAMP:20260421T072314
CREATED:20260421T025831Z
LAST-MODIFIED:20260421T025831Z
UID:10046402-1787680800-1787691600@www.rickscarcalendar.com
SUMMARY:PRIME STEEL CAR CLUB CRUISE NIGHT
DESCRIPTION:CAR SHOW AND SHINE HELD AT COOKIES LOUNGE (THE OLD ELROCO PARKING LOT!
URL:https://www.rickscarcalendar.com/event/prime-steel-car-club-cruise-night-2/2026-08-25/
LOCATION:COOKIES LOUNGE\, 1730 13TH AVE NORTH\, GRAND FORKS\, ND\, United States
CATEGORIES:Car Show
ATTACH;FMTTYPE=image/jpeg:https://www.rickscarcalendar.com/wp-content/uploads/2026/04/IMG_9521.jpeg
END:VEVENT
BEGIN:VEVENT
DTSTART;TZID=America/Winnipeg:20260901T180000
DTEND;TZID=America/Winnipeg:20260901T210000
DTSTAMP:20260421T072314
CREATED:20260421T025831Z
LAST-MODIFIED:20260421T025831Z
UID:10046403-1788285600-1788296400@www.rickscarcalendar.com
SUMMARY:PRIME STEEL CAR CLUB CRUISE NIGHT
DESCRIPTION:CAR SHOW AND SHINE HELD AT COOKIES LOUNGE (THE OLD ELROCO PARKING LOT!
URL:https://www.rickscarcalendar.com/event/prime-steel-car-club-cruise-night-2/2026-09-01/
LOCATION:COOKIES LOUNGE\, 1730 13TH AVE NORTH\, GRAND FORKS\, ND\, United States
CATEGORIES:Car Show
ATTACH;FMTTYPE=image/jpeg:https://www.rickscarcalendar.com/wp-content/uploads/2026/04/IMG_9521.jpeg
END:VEVENT
BEGIN:VEVENT
DTSTART;TZID=America/Winnipeg:20260908T180000
DTEND;TZID=America/Winnipeg:20260908T210000
DTSTAMP:20260421T072314
CREATED:20260421T025831Z
LAST-MODIFIED:20260421T025831Z
UID:10046404-1788890400-1788901200@www.rickscarcalendar.com
SUMMARY:PRIME STEEL CAR CLUB CRUISE NIGHT
DESCRIPTION:CAR SHOW AND SHINE HELD AT COOKIES LOUNGE (THE OLD ELROCO PARKING LOT!
URL:https://www.rickscarcalendar.com/event/prime-steel-car-club-cruise-night-2/2026-09-08/
LOCATION:COOKIES LOUNGE\, 1730 13TH AVE NORTH\, GRAND FORKS\, ND\, United States
CATEGORIES:Car Show
ATTACH;FMTTYPE=image/jpeg:https://www.rickscarcalendar.com/wp-content/uploads/2026/04/IMG_9521.jpeg
END:VEVENT
BEGIN:VEVENT
DTSTART;TZID=America/Winnipeg:20260915T180000
DTEND;TZID=America/Winnipeg:20260915T210000
DTSTAMP:20260421T072314
CREATED:20260421T025831Z
LAST-MODIFIED:20260421T025831Z
UID:10046405-1789495200-1789506000@www.rickscarcalendar.com
SUMMARY:PRIME STEEL CAR CLUB CRUISE NIGHT
DESCRIPTION:CAR SHOW AND SHINE HELD AT COOKIES LOUNGE (THE OLD ELROCO PARKING LOT!
URL:https://www.rickscarcalendar.com/event/prime-steel-car-club-cruise-night-2/2026-09-15/
LOCATION:COOKIES LOUNGE\, 1730 13TH AVE NORTH\, GRAND FORKS\, ND\, United States
CATEGORIES:Car Show
ATTACH;FMTTYPE=image/jpeg:https://www.rickscarcalendar.com/wp-content/uploads/2026/04/IMG_9521.jpeg
END:VEVENT
BEGIN:VEVENT
DTSTART;TZID=America/Winnipeg:20260922T180000
DTEND;TZID=America/Winnipeg:20260922T210000
DTSTAMP:20260421T072314
CREATED:20260421T025831Z
LAST-MODIFIED:20260421T025831Z
UID:10046406-1790100000-1790110800@www.rickscarcalendar.com
SUMMARY:PRIME STEEL CAR CLUB CRUISE NIGHT
DESCRIPTION:CAR SHOW AND SHINE HELD AT COOKIES LOUNGE (THE OLD ELROCO PARKING LOT!
URL:https://www.rickscarcalendar.com/event/prime-steel-car-club-cruise-night-2/2026-09-22/
LOCATION:COOKIES LOUNGE\, 1730 13TH AVE NORTH\, GRAND FORKS\, ND\, United States
CATEGORIES:Car Show
ATTACH;FMTTYPE=image/jpeg:https://www.rickscarcalendar.com/wp-content/uploads/2026/04/IMG_9521.jpeg
END:VEVENT
BEGIN:VEVENT
DTSTART;TZID=America/Winnipeg:20260929T180000
DTEND;TZID=America/Winnipeg:20260929T210000
DTSTAMP:20260421T072314
CREATED:20260421T025831Z
LAST-MODIFIED:20260421T025831Z
UID:10046407-1790704800-1790715600@www.rickscarcalendar.com
SUMMARY:PRIME STEEL CAR CLUB CRUISE NIGHT
DESCRIPTION:CAR SHOW AND SHINE HELD AT COOKIES LOUNGE (THE OLD ELROCO PARKING LOT!
URL:https://www.rickscarcalendar.com/event/prime-steel-car-club-cruise-night-2/2026-09-29/
LOCATION:COOKIES LOUNGE\, 1730 13TH AVE NORTH\, GRAND FORKS\, ND\, United States
CATEGORIES:Car Show
ATTACH;FMTTYPE=image/jpeg:https://www.rickscarcalendar.com/wp-content/uploads/2026/04/IMG_9521.jpeg
END:VEVENT
END:VCALENDAR