BEGIN:VCALENDAR
VERSION:2.0
PRODID:-//Rick&#039;s Car Calendar - ECPv6.15.20//NONSGML v1.0//EN
CALSCALE:GREGORIAN
METHOD:PUBLISH
X-WR-CALNAME:Rick&#039;s Car Calendar
X-ORIGINAL-URL:https://www.rickscarcalendar.com
X-WR-CALDESC:Events for Rick&#039;s Car Calendar
REFRESH-INTERVAL;VALUE=DURATION:PT1H
X-Robots-Tag:noindex
X-PUBLISHED-TTL:PT1H
BEGIN:VTIMEZONE
TZID:America/Winnipeg
BEGIN:DAYLIGHT
TZOFFSETFROM:-0600
TZOFFSETTO:-0500
TZNAME:CDT
DTSTART:20250309T080000
END:DAYLIGHT
BEGIN:STANDARD
TZOFFSETFROM:-0500
TZOFFSETTO:-0600
TZNAME:CST
DTSTART:20251102T070000
END:STANDARD
BEGIN:DAYLIGHT
TZOFFSETFROM:-0600
TZOFFSETTO:-0500
TZNAME:CDT
DTSTART:20260308T080000
END:DAYLIGHT
BEGIN:STANDARD
TZOFFSETFROM:-0500
TZOFFSETTO:-0600
TZNAME:CST
DTSTART:20261101T070000
END:STANDARD
BEGIN:DAYLIGHT
TZOFFSETFROM:-0600
TZOFFSETTO:-0500
TZNAME:CDT
DTSTART:20270314T080000
END:DAYLIGHT
BEGIN:STANDARD
TZOFFSETFROM:-0500
TZOFFSETTO:-0600
TZNAME:CST
DTSTART:20271107T070000
END:STANDARD
END:VTIMEZONE
BEGIN:VEVENT
DTSTART;TZID=America/Winnipeg:20260801T100000
DTEND;TZID=America/Winnipeg:20260801T170000
DTSTAMP:20260421T090033
CREATED:20260421T025920Z
LAST-MODIFIED:20260421T025920Z
UID:10046408-1785578400-1785603600@www.rickscarcalendar.com
SUMMARY:WESTERN CANADIAN NATIONALS CAR SHOW
DESCRIPTION:2 DAY CAR SHOW AND SHINE. SEE FLYER FOR MORE DETAILS OR CALL 204-729-5808.
URL:https://www.rickscarcalendar.com/event/western-canadian-nationals-car-show-2/2026-08-01/
LOCATION:MOOSE JAW\, MOOSE JAW\, SK\, Canada
CATEGORIES:Car Show
ATTACH;FMTTYPE=image/jpeg:https://www.rickscarcalendar.com/wp-content/uploads/2026/04/IMG_9377.jpg
END:VEVENT
BEGIN:VEVENT
DTSTART;TZID=America/Winnipeg:20260802T100000
DTEND;TZID=America/Winnipeg:20260802T170000
DTSTAMP:20260421T090033
CREATED:20260421T025920Z
LAST-MODIFIED:20260421T025920Z
UID:10046409-1785664800-1785690000@www.rickscarcalendar.com
SUMMARY:WESTERN CANADIAN NATIONALS CAR SHOW
DESCRIPTION:2 DAY CAR SHOW AND SHINE. SEE FLYER FOR MORE DETAILS OR CALL 204-729-5808.
URL:https://www.rickscarcalendar.com/event/western-canadian-nationals-car-show-2/2026-08-02/
LOCATION:MOOSE JAW\, MOOSE JAW\, SK\, Canada
CATEGORIES:Car Show
ATTACH;FMTTYPE=image/jpeg:https://www.rickscarcalendar.com/wp-content/uploads/2026/04/IMG_9377.jpg
END:VEVENT
END:VCALENDAR