BEGIN:VCALENDAR
VERSION:2.0
PRODID:-//Rick&#039;s Car Calendar - ECPv6.15.20//NONSGML v1.0//EN
CALSCALE:GREGORIAN
METHOD:PUBLISH
X-WR-CALNAME:Rick&#039;s Car Calendar
X-ORIGINAL-URL:https://www.rickscarcalendar.com
X-WR-CALDESC:Events for Rick&#039;s Car Calendar
REFRESH-INTERVAL;VALUE=DURATION:PT1H
X-Robots-Tag:noindex
X-PUBLISHED-TTL:PT1H
BEGIN:VTIMEZONE
TZID:America/Winnipeg
BEGIN:DAYLIGHT
TZOFFSETFROM:-0600
TZOFFSETTO:-0500
TZNAME:CDT
DTSTART:20250309T080000
END:DAYLIGHT
BEGIN:STANDARD
TZOFFSETFROM:-0500
TZOFFSETTO:-0600
TZNAME:CST
DTSTART:20251102T070000
END:STANDARD
BEGIN:DAYLIGHT
TZOFFSETFROM:-0600
TZOFFSETTO:-0500
TZNAME:CDT
DTSTART:20260308T080000
END:DAYLIGHT
BEGIN:STANDARD
TZOFFSETFROM:-0500
TZOFFSETTO:-0600
TZNAME:CST
DTSTART:20261101T070000
END:STANDARD
BEGIN:DAYLIGHT
TZOFFSETFROM:-0600
TZOFFSETTO:-0500
TZNAME:CDT
DTSTART:20270314T080000
END:DAYLIGHT
BEGIN:STANDARD
TZOFFSETFROM:-0500
TZOFFSETTO:-0600
TZNAME:CST
DTSTART:20271107T070000
END:STANDARD
END:VTIMEZONE
BEGIN:VEVENT
DTSTART;TZID=America/Winnipeg:20260502T080000
DTEND;TZID=America/Winnipeg:20260530T100000
DTSTAMP:20260421T072315
CREATED:20260421T030659Z
LAST-MODIFIED:20260421T030659Z
UID:10046417-1777708800-1780135200@www.rickscarcalendar.com
SUMMARY:CARS AND COFFEE SPONSERED BY BRIDGE CITY CRUISERS.
DESCRIPTION:CAR SHOW AND SHINE AND OF COURSE C O F F E E !
URL:https://www.rickscarcalendar.com/event/cars-and-coffee-sponsered-by-bridge-city-cruisers/2026-05-02/
LOCATION:ALLEY BEANS\, 231 3RD ST NE\, VALLEY CITY\, ND\, ND\, United States
CATEGORIES:Car Show
ATTACH;FMTTYPE=image/jpeg:https://www.rickscarcalendar.com/wp-content/uploads/2026/04/IMG_9437.jpg
END:VEVENT
BEGIN:VEVENT
DTSTART;TZID=America/Winnipeg:20260509T080000
DTEND;TZID=America/Winnipeg:20260606T100000
DTSTAMP:20260421T072315
CREATED:20260421T030659Z
LAST-MODIFIED:20260421T030659Z
UID:10046501-1778313600-1780740000@www.rickscarcalendar.com
SUMMARY:CARS AND COFFEE SPONSERED BY BRIDGE CITY CRUISERS.
DESCRIPTION:CAR SHOW AND SHINE AND OF COURSE C O F F E E !
URL:https://www.rickscarcalendar.com/event/cars-and-coffee-sponsered-by-bridge-city-cruisers/2026-05-09/
LOCATION:ALLEY BEANS\, 231 3RD ST NE\, VALLEY CITY\, ND\, ND\, United States
CATEGORIES:Car Show
ATTACH;FMTTYPE=image/jpeg:https://www.rickscarcalendar.com/wp-content/uploads/2026/04/IMG_9437.jpg
END:VEVENT
BEGIN:VEVENT
DTSTART;TZID=America/Winnipeg:20260516T080000
DTEND;TZID=America/Winnipeg:20260613T100000
DTSTAMP:20260421T072315
CREATED:20260421T030659Z
LAST-MODIFIED:20260421T030659Z
UID:10046502-1778918400-1781344800@www.rickscarcalendar.com
SUMMARY:CARS AND COFFEE SPONSERED BY BRIDGE CITY CRUISERS.
DESCRIPTION:CAR SHOW AND SHINE AND OF COURSE C O F F E E !
URL:https://www.rickscarcalendar.com/event/cars-and-coffee-sponsered-by-bridge-city-cruisers/2026-05-16/
LOCATION:ALLEY BEANS\, 231 3RD ST NE\, VALLEY CITY\, ND\, ND\, United States
CATEGORIES:Car Show
ATTACH;FMTTYPE=image/jpeg:https://www.rickscarcalendar.com/wp-content/uploads/2026/04/IMG_9437.jpg
END:VEVENT
BEGIN:VEVENT
DTSTART;TZID=America/Winnipeg:20260523T080000
DTEND;TZID=America/Winnipeg:20260620T100000
DTSTAMP:20260421T072315
CREATED:20260421T030659Z
LAST-MODIFIED:20260421T030659Z
UID:10046503-1779523200-1781949600@www.rickscarcalendar.com
SUMMARY:CARS AND COFFEE SPONSERED BY BRIDGE CITY CRUISERS.
DESCRIPTION:CAR SHOW AND SHINE AND OF COURSE C O F F E E !
URL:https://www.rickscarcalendar.com/event/cars-and-coffee-sponsered-by-bridge-city-cruisers/2026-05-23/
LOCATION:ALLEY BEANS\, 231 3RD ST NE\, VALLEY CITY\, ND\, ND\, United States
CATEGORIES:Car Show
ATTACH;FMTTYPE=image/jpeg:https://www.rickscarcalendar.com/wp-content/uploads/2026/04/IMG_9437.jpg
END:VEVENT
BEGIN:VEVENT
DTSTART;TZID=America/Winnipeg:20260530T080000
DTEND;TZID=America/Winnipeg:20260627T100000
DTSTAMP:20260421T072315
CREATED:20260421T030659Z
LAST-MODIFIED:20260421T030659Z
UID:10046504-1780128000-1782554400@www.rickscarcalendar.com
SUMMARY:CARS AND COFFEE SPONSERED BY BRIDGE CITY CRUISERS.
DESCRIPTION:CAR SHOW AND SHINE AND OF COURSE C O F F E E !
URL:https://www.rickscarcalendar.com/event/cars-and-coffee-sponsered-by-bridge-city-cruisers/2026-05-30/
LOCATION:ALLEY BEANS\, 231 3RD ST NE\, VALLEY CITY\, ND\, ND\, United States
CATEGORIES:Car Show
ATTACH;FMTTYPE=image/jpeg:https://www.rickscarcalendar.com/wp-content/uploads/2026/04/IMG_9437.jpg
END:VEVENT
END:VCALENDAR