BEGIN:VCALENDAR
VERSION:2.0
PRODID:-//Rick&#039;s Car Calendar - ECPv6.15.20//NONSGML v1.0//EN
CALSCALE:GREGORIAN
METHOD:PUBLISH
X-WR-CALNAME:Rick&#039;s Car Calendar
X-ORIGINAL-URL:https://www.rickscarcalendar.com
X-WR-CALDESC:Events for Rick&#039;s Car Calendar
REFRESH-INTERVAL;VALUE=DURATION:PT1H
X-Robots-Tag:noindex
X-PUBLISHED-TTL:PT1H
BEGIN:VTIMEZONE
TZID:America/Winnipeg
BEGIN:DAYLIGHT
TZOFFSETFROM:-0600
TZOFFSETTO:-0500
TZNAME:CDT
DTSTART:20250309T080000
END:DAYLIGHT
BEGIN:STANDARD
TZOFFSETFROM:-0500
TZOFFSETTO:-0600
TZNAME:CST
DTSTART:20251102T070000
END:STANDARD
BEGIN:DAYLIGHT
TZOFFSETFROM:-0600
TZOFFSETTO:-0500
TZNAME:CDT
DTSTART:20260308T080000
END:DAYLIGHT
BEGIN:STANDARD
TZOFFSETFROM:-0500
TZOFFSETTO:-0600
TZNAME:CST
DTSTART:20261101T070000
END:STANDARD
BEGIN:DAYLIGHT
TZOFFSETFROM:-0600
TZOFFSETTO:-0500
TZNAME:CDT
DTSTART:20270314T080000
END:DAYLIGHT
BEGIN:STANDARD
TZOFFSETFROM:-0500
TZOFFSETTO:-0600
TZNAME:CST
DTSTART:20271107T070000
END:STANDARD
END:VTIMEZONE
BEGIN:VEVENT
DTSTART;TZID=America/Winnipeg:20260822T080000
DTEND;TZID=America/Winnipeg:20260822T170000
DTSTAMP:20260424T121956
CREATED:20260424T030649Z
LAST-MODIFIED:20260424T030924Z
UID:10046509-1787385600-1787418000@www.rickscarcalendar.com
SUMMARY:ABRA COMMUNITY DAYS CAR SHOW
DESCRIPTION:CAR SHOW AND SHINE\, A VENDOR SHOW\, KIDS ACTIVITIES\, FOOD\, FREE EVENT\, QUESTIONS CALL 701-255-2272 \n******GO BY THE TIME ON THE FLYER\, COMPUTER WONT LET ME CHANGE IT ON THE LISTING!*******
URL:https://www.rickscarcalendar.com/event/abra-community-days-car-show-3/
LOCATION:ABRA\, 1901 E BISMARCK EXPRESSWAY\, BISMARCK\, ND\, United States
CATEGORIES:Car Show
ATTACH;FMTTYPE=image/jpeg:https://www.rickscarcalendar.com/wp-content/uploads/2026/04/IMG_9360.jpg
END:VEVENT
BEGIN:VEVENT
DTSTART;TZID=America/Winnipeg:20260822T110000
DTEND;TZID=America/Winnipeg:20260822T140000
DTSTAMP:20260424T121956
CREATED:20260424T030649Z
LAST-MODIFIED:20260424T030924Z
UID:10046510-1787396400-1787407200@www.rickscarcalendar.com
SUMMARY:ABRA COMMUNITY DAYS CAR SHOW
DESCRIPTION:CAR SHOW AND SHINE\, A VENDOR SHOW\, KIDS ACTIVITIES\, FOOD\, FREE EVENT\, QUESTIONS CALL 701-255-2272 \n******GO BY THE TIME ON THE FLYER\, COMPUTER WONT LET ME CHANGE IT ON THE LISTING!*******
URL:https://www.rickscarcalendar.com/event/abra-community-days-car-show-3/
LOCATION:ABRA\, 1901 E BISMARCK EXPRESSWAY\, BISMARCK\, ND\, United States
CATEGORIES:Car Show
ATTACH;FMTTYPE=image/jpeg:https://www.rickscarcalendar.com/wp-content/uploads/2026/04/IMG_9360.jpg
END:VEVENT
END:VCALENDAR