BEGIN:VCALENDAR
VERSION:2.0
PRODID:-//Rick&#039;s Car Calendar - ECPv6.15.20//NONSGML v1.0//EN
CALSCALE:GREGORIAN
METHOD:PUBLISH
X-WR-CALNAME:Rick&#039;s Car Calendar
X-ORIGINAL-URL:https://www.rickscarcalendar.com
X-WR-CALDESC:Events for Rick&#039;s Car Calendar
REFRESH-INTERVAL;VALUE=DURATION:PT1H
X-Robots-Tag:noindex
X-PUBLISHED-TTL:PT1H
BEGIN:VTIMEZONE
TZID:America/Winnipeg
BEGIN:DAYLIGHT
TZOFFSETFROM:-0600
TZOFFSETTO:-0500
TZNAME:CDT
DTSTART:20250309T080000
END:DAYLIGHT
BEGIN:STANDARD
TZOFFSETFROM:-0500
TZOFFSETTO:-0600
TZNAME:CST
DTSTART:20251102T070000
END:STANDARD
BEGIN:DAYLIGHT
TZOFFSETFROM:-0600
TZOFFSETTO:-0500
TZNAME:CDT
DTSTART:20260308T080000
END:DAYLIGHT
BEGIN:STANDARD
TZOFFSETFROM:-0500
TZOFFSETTO:-0600
TZNAME:CST
DTSTART:20261101T070000
END:STANDARD
BEGIN:DAYLIGHT
TZOFFSETFROM:-0600
TZOFFSETTO:-0500
TZNAME:CDT
DTSTART:20270314T080000
END:DAYLIGHT
BEGIN:STANDARD
TZOFFSETFROM:-0500
TZOFFSETTO:-0600
TZNAME:CST
DTSTART:20271107T070000
END:STANDARD
END:VTIMEZONE
BEGIN:VEVENT
DTSTART;TZID=America/Winnipeg:20260425T100000
DTEND;TZID=America/Winnipeg:20260425T180000
DTSTAMP:20260424T104243
CREATED:20260424T031126Z
LAST-MODIFIED:20260424T031126Z
UID:10046513-1777111200-1777140000@www.rickscarcalendar.com
SUMMARY:SBMC 21ST ANNUAL BIKE AND MUSCLE CAR SHOW
DESCRIPTION:CAR AND BIKE SHOW SEE FLYER FOR MORE DETAILS\, OR CALL MIKE AT 701-495-8685 OR SHAWN AT 701-330-0080
URL:https://www.rickscarcalendar.com/event/sbmc-21st-annual-bike-and-muscle-car-show/2026-04-25/
LOCATION:WEST RIVER ICE CENTER\, 1865 EMPIRE RD\, DICKINSON\, ND\, United States
CATEGORIES:Car Show
ATTACH;FMTTYPE=image/jpeg:https://www.rickscarcalendar.com/wp-content/uploads/2026/04/IMG_9355.jpg
GEO:46.8896879;-102.8124734
X-APPLE-STRUCTURED-LOCATION;VALUE=URI;X-ADDRESS=WEST RIVER ICE CENTER 1865 EMPIRE RD DICKINSON ND United States;X-APPLE-RADIUS=500;X-TITLE=1865 EMPIRE RD:geo:-102.8124734,46.8896879
END:VEVENT
BEGIN:VEVENT
DTSTART;TZID=America/Winnipeg:20260426T100000
DTEND;TZID=America/Winnipeg:20260426T160000
DTSTAMP:20260424T104243
CREATED:20260424T031126Z
LAST-MODIFIED:20260424T031126Z
UID:10046514-1777197600-1777219200@www.rickscarcalendar.com
SUMMARY:SBMC 21ST ANNUAL BIKE AND MUSCLE CAR SHOW
DESCRIPTION:CAR AND BIKE SHOW SEE FLYER FOR MORE DETAILS\, OR CALL MIKE AT 701-495-8685 OR SHAWN AT 701-330-0080
URL:https://www.rickscarcalendar.com/event/sbmc-21st-annual-bike-and-muscle-car-show/2026-04-26/
LOCATION:WEST RIVER ICE CENTER\, 1865 EMPIRE RD\, DICKINSON\, ND\, United States
CATEGORIES:Car Show
ATTACH;FMTTYPE=image/jpeg:https://www.rickscarcalendar.com/wp-content/uploads/2026/04/IMG_9355.jpg
GEO:46.8896879;-102.8124734
X-APPLE-STRUCTURED-LOCATION;VALUE=URI;X-ADDRESS=WEST RIVER ICE CENTER 1865 EMPIRE RD DICKINSON ND United States;X-APPLE-RADIUS=500;X-TITLE=1865 EMPIRE RD:geo:-102.8124734,46.8896879
END:VEVENT
END:VCALENDAR