BEGIN:VCALENDAR
VERSION:2.0
PRODID:-//Rick&#039;s Car Calendar - ECPv6.15.20//NONSGML v1.0//EN
CALSCALE:GREGORIAN
METHOD:PUBLISH
X-WR-CALNAME:Rick&#039;s Car Calendar
X-ORIGINAL-URL:https://www.rickscarcalendar.com
X-WR-CALDESC:Events for Rick&#039;s Car Calendar
REFRESH-INTERVAL;VALUE=DURATION:PT1H
X-Robots-Tag:noindex
X-PUBLISHED-TTL:PT1H
BEGIN:VTIMEZONE
TZID:America/Winnipeg
BEGIN:DAYLIGHT
TZOFFSETFROM:-0600
TZOFFSETTO:-0500
TZNAME:CDT
DTSTART:20250309T080000
END:DAYLIGHT
BEGIN:STANDARD
TZOFFSETFROM:-0500
TZOFFSETTO:-0600
TZNAME:CST
DTSTART:20251102T070000
END:STANDARD
BEGIN:DAYLIGHT
TZOFFSETFROM:-0600
TZOFFSETTO:-0500
TZNAME:CDT
DTSTART:20260308T080000
END:DAYLIGHT
BEGIN:STANDARD
TZOFFSETFROM:-0500
TZOFFSETTO:-0600
TZNAME:CST
DTSTART:20261101T070000
END:STANDARD
BEGIN:DAYLIGHT
TZOFFSETFROM:-0600
TZOFFSETTO:-0500
TZNAME:CDT
DTSTART:20270314T080000
END:DAYLIGHT
BEGIN:STANDARD
TZOFFSETFROM:-0500
TZOFFSETTO:-0600
TZNAME:CST
DTSTART:20271107T070000
END:STANDARD
END:VTIMEZONE
BEGIN:VEVENT
DTSTART;TZID=America/Winnipeg:20260428T180000
DTEND;TZID=America/Winnipeg:20260428T210000
DTSTAMP:20260424T104206
CREATED:20260424T031326Z
LAST-MODIFIED:20260424T032302Z
UID:10046518-1777399200-1777410000@www.rickscarcalendar.com
SUMMARY:CAMAROS OF NORTH DAKOTA AT SCOTTYS
DESCRIPTION:CAMARO SHOW AND SHINE GATHERING\, FOOD\,
URL:https://www.rickscarcalendar.com/event/camaros-of-north-dakota-at-scottys/2026-04-28/
LOCATION:SCOTTYS\, BISMARCK\, ND\, United States
CATEGORIES:Car Show
ATTACH;FMTTYPE=image/png:https://www.rickscarcalendar.com/wp-content/uploads/2026/04/IMG_9348.png
GEO:46.8054947;-100.7876931
END:VEVENT
BEGIN:VEVENT
DTSTART;TZID=America/Winnipeg:20260526T180000
DTEND;TZID=America/Winnipeg:20260526T210000
DTSTAMP:20260424T104206
CREATED:20260424T031326Z
LAST-MODIFIED:20260424T032302Z
UID:10046519-1779818400-1779829200@www.rickscarcalendar.com
SUMMARY:CAMAROS OF NORTH DAKOTA AT SCOTTYS
DESCRIPTION:CAMARO SHOW AND SHINE GATHERING\, FOOD\,
URL:https://www.rickscarcalendar.com/event/camaros-of-north-dakota-at-scottys/2026-05-26/
LOCATION:SCOTTYS\, BISMARCK\, ND\, United States
CATEGORIES:Car Show
ATTACH;FMTTYPE=image/png:https://www.rickscarcalendar.com/wp-content/uploads/2026/04/IMG_9348.png
GEO:46.8054947;-100.7876931
END:VEVENT
BEGIN:VEVENT
DTSTART;TZID=America/Winnipeg:20260623T180000
DTEND;TZID=America/Winnipeg:20260623T210000
DTSTAMP:20260424T104206
CREATED:20260424T031326Z
LAST-MODIFIED:20260424T032302Z
UID:10046520-1782237600-1782248400@www.rickscarcalendar.com
SUMMARY:CAMAROS OF NORTH DAKOTA AT SCOTTYS
DESCRIPTION:CAMARO SHOW AND SHINE GATHERING\, FOOD\,
URL:https://www.rickscarcalendar.com/event/camaros-of-north-dakota-at-scottys/2026-06-23/
LOCATION:SCOTTYS\, BISMARCK\, ND\, United States
CATEGORIES:Car Show
ATTACH;FMTTYPE=image/png:https://www.rickscarcalendar.com/wp-content/uploads/2026/04/IMG_9348.png
GEO:46.8054947;-100.7876931
END:VEVENT
BEGIN:VEVENT
DTSTART;TZID=America/Winnipeg:20260728T180000
DTEND;TZID=America/Winnipeg:20260728T210000
DTSTAMP:20260424T104206
CREATED:20260424T031326Z
LAST-MODIFIED:20260424T032302Z
UID:10046521-1785261600-1785272400@www.rickscarcalendar.com
SUMMARY:CAMAROS OF NORTH DAKOTA AT SCOTTYS
DESCRIPTION:CAMARO SHOW AND SHINE GATHERING\, FOOD\,
URL:https://www.rickscarcalendar.com/event/camaros-of-north-dakota-at-scottys/2026-07-28/
LOCATION:SCOTTYS\, BISMARCK\, ND\, United States
CATEGORIES:Car Show
ATTACH;FMTTYPE=image/png:https://www.rickscarcalendar.com/wp-content/uploads/2026/04/IMG_9348.png
GEO:46.8054947;-100.7876931
END:VEVENT
BEGIN:VEVENT
DTSTART;TZID=America/Winnipeg:20260825T180000
DTEND;TZID=America/Winnipeg:20260825T210000
DTSTAMP:20260424T104206
CREATED:20260424T031326Z
LAST-MODIFIED:20260424T032302Z
UID:10046522-1787680800-1787691600@www.rickscarcalendar.com
SUMMARY:CAMAROS OF NORTH DAKOTA AT SCOTTYS
DESCRIPTION:CAMARO SHOW AND SHINE GATHERING\, FOOD\,
URL:https://www.rickscarcalendar.com/event/camaros-of-north-dakota-at-scottys/2026-08-25/
LOCATION:SCOTTYS\, BISMARCK\, ND\, United States
CATEGORIES:Car Show
ATTACH;FMTTYPE=image/png:https://www.rickscarcalendar.com/wp-content/uploads/2026/04/IMG_9348.png
GEO:46.8054947;-100.7876931
END:VEVENT
BEGIN:VEVENT
DTSTART;TZID=America/Winnipeg:20260922T180000
DTEND;TZID=America/Winnipeg:20260922T210000
DTSTAMP:20260424T104206
CREATED:20260424T031326Z
LAST-MODIFIED:20260424T032302Z
UID:10046523-1790100000-1790110800@www.rickscarcalendar.com
SUMMARY:CAMAROS OF NORTH DAKOTA AT SCOTTYS
DESCRIPTION:CAMARO SHOW AND SHINE GATHERING\, FOOD\,
URL:https://www.rickscarcalendar.com/event/camaros-of-north-dakota-at-scottys/2026-09-22/
LOCATION:SCOTTYS\, BISMARCK\, ND\, United States
CATEGORIES:Car Show
ATTACH;FMTTYPE=image/png:https://www.rickscarcalendar.com/wp-content/uploads/2026/04/IMG_9348.png
GEO:46.8054947;-100.7876931
END:VEVENT
END:VCALENDAR