BEGIN:VCALENDAR
VERSION:2.0
PRODID:-//Rick&#039;s Car Calendar - ECPv6.15.20//NONSGML v1.0//EN
CALSCALE:GREGORIAN
METHOD:PUBLISH
X-WR-CALNAME:Rick&#039;s Car Calendar
X-ORIGINAL-URL:https://www.rickscarcalendar.com
X-WR-CALDESC:Events for Rick&#039;s Car Calendar
REFRESH-INTERVAL;VALUE=DURATION:PT1H
X-Robots-Tag:noindex
X-PUBLISHED-TTL:PT1H
BEGIN:VTIMEZONE
TZID:America/Winnipeg
BEGIN:DAYLIGHT
TZOFFSETFROM:-0600
TZOFFSETTO:-0500
TZNAME:CDT
DTSTART:20250309T080000
END:DAYLIGHT
BEGIN:STANDARD
TZOFFSETFROM:-0500
TZOFFSETTO:-0600
TZNAME:CST
DTSTART:20251102T070000
END:STANDARD
BEGIN:DAYLIGHT
TZOFFSETFROM:-0600
TZOFFSETTO:-0500
TZNAME:CDT
DTSTART:20260308T080000
END:DAYLIGHT
BEGIN:STANDARD
TZOFFSETFROM:-0500
TZOFFSETTO:-0600
TZNAME:CST
DTSTART:20261101T070000
END:STANDARD
BEGIN:DAYLIGHT
TZOFFSETFROM:-0600
TZOFFSETTO:-0500
TZNAME:CDT
DTSTART:20270314T080000
END:DAYLIGHT
BEGIN:STANDARD
TZOFFSETFROM:-0500
TZOFFSETTO:-0600
TZNAME:CST
DTSTART:20271107T070000
END:STANDARD
END:VTIMEZONE
BEGIN:VEVENT
DTSTART;TZID=America/Winnipeg:20260601T180000
DTEND;TZID=America/Winnipeg:20260601T210000
DTSTAMP:20260424T121959
CREATED:20260424T031422Z
LAST-MODIFIED:20260424T031422Z
UID:10046524-1780336800-1780347600@www.rickscarcalendar.com
SUMMARY:MUSTANG NIGHT AT SCOTTYS
DESCRIPTION:MUSTANG SHOW AND SHINE AND GATHERING OF MUSTANG OWNERS.
URL:https://www.rickscarcalendar.com/event/mustang-night-at-scottys/2026-06-01/
LOCATION:SCOTTYS\, BISMARCK\, ND\, United States
CATEGORIES:Car Show
ATTACH;FMTTYPE=image/png:https://www.rickscarcalendar.com/wp-content/uploads/2026/04/IMG_9347-1.png
GEO:46.8054947;-100.7876931
END:VEVENT
BEGIN:VEVENT
DTSTART;TZID=America/Winnipeg:20260706T180000
DTEND;TZID=America/Winnipeg:20260706T210000
DTSTAMP:20260424T121959
CREATED:20260424T031422Z
LAST-MODIFIED:20260424T031422Z
UID:10046525-1783360800-1783371600@www.rickscarcalendar.com
SUMMARY:MUSTANG NIGHT AT SCOTTYS
DESCRIPTION:MUSTANG SHOW AND SHINE AND GATHERING OF MUSTANG OWNERS.
URL:https://www.rickscarcalendar.com/event/mustang-night-at-scottys/2026-07-06/
LOCATION:SCOTTYS\, BISMARCK\, ND\, United States
CATEGORIES:Car Show
ATTACH;FMTTYPE=image/png:https://www.rickscarcalendar.com/wp-content/uploads/2026/04/IMG_9347-1.png
GEO:46.8054947;-100.7876931
END:VEVENT
BEGIN:VEVENT
DTSTART;TZID=America/Winnipeg:20260803T180000
DTEND;TZID=America/Winnipeg:20260803T210000
DTSTAMP:20260424T121959
CREATED:20260424T031422Z
LAST-MODIFIED:20260424T031422Z
UID:10046526-1785780000-1785790800@www.rickscarcalendar.com
SUMMARY:MUSTANG NIGHT AT SCOTTYS
DESCRIPTION:MUSTANG SHOW AND SHINE AND GATHERING OF MUSTANG OWNERS.
URL:https://www.rickscarcalendar.com/event/mustang-night-at-scottys/2026-08-03/
LOCATION:SCOTTYS\, BISMARCK\, ND\, United States
CATEGORIES:Car Show
ATTACH;FMTTYPE=image/png:https://www.rickscarcalendar.com/wp-content/uploads/2026/04/IMG_9347-1.png
GEO:46.8054947;-100.7876931
END:VEVENT
END:VCALENDAR